BEGIN:VCALENDAR
VERSION:2.0
PRODID:http://www.kufer.de/kuferweb / DE
METHOD:PUBLISH
CALSCALE:GREGORIAN
X-WR-TIMEZONE:Europe/Berlin
BEGIN:VTIMEZONE
TZID:Europe/Berlin
X-LIC-LOCATION:Europe/Berlin
BEGIN:DAYLIGHT
TZOFFSETFROM:+0100
TZOFFSETTO:+0200
TZNAME:CEST
DTSTART;TZID=Europe/Berlin:19700329T020000
RRULE:FREQ=YEARLY;INTERVAL=1;BYDAY=-1SU;BYMONTH=3
END:DAYLIGHT
BEGIN:STANDARD
TZOFFSETFROM:+0200
TZOFFSETTO:+0100
TZNAME:CET
DTSTART;TZID=Europe/Berlin:19701025T030000
RRULE:FREQ=YEARLY;INTERVAL=1;BYDAY=-1SU;BYMONTH=10
END:STANDARD
END:VTIMEZONE
BEGIN:VEVENT
DTSTAMP:20260423T185430
DTSTART;TZID=Europe/Berlin:20260824T090000
DTEND;TZID=Europe/Berlin:20260824T140000
UID:26F42000-20260824T090000@VHSBREMERHAVEN
SUMMARY:Vorankündigung: Englisch für die Reise  für Teilnehmende ohne Vorkenntnisse (Teil 1) Bildungszeit im Land Bremen (26F42000) 
LOCATION:Volkshochschule; 005, Lloydstr. 15, 27568 Bremerhaven
END:VEVENT
BEGIN:VEVENT
DTSTAMP:20260423T185430
DTSTART;TZID=Europe/Berlin:20260825T090000
DTEND;TZID=Europe/Berlin:20260825T140000
UID:26F42000-20260825T090000@VHSBREMERHAVEN
SUMMARY:Vorankündigung: Englisch für die Reise  für Teilnehmende ohne Vorkenntnisse (Teil 1) Bildungszeit im Land Bremen (26F42000) 
LOCATION:Volkshochschule; 005, Lloydstr. 15, 27568 Bremerhaven
END:VEVENT
BEGIN:VEVENT
DTSTAMP:20260423T185430
DTSTART;TZID=Europe/Berlin:20260826T090000
DTEND;TZID=Europe/Berlin:20260826T140000
UID:26F42000-20260826T090000@VHSBREMERHAVEN
SUMMARY:Vorankündigung: Englisch für die Reise  für Teilnehmende ohne Vorkenntnisse (Teil 1) Bildungszeit im Land Bremen (26F42000) 
LOCATION:Volkshochschule; 005, Lloydstr. 15, 27568 Bremerhaven
END:VEVENT
BEGIN:VEVENT
DTSTAMP:20260423T185430
DTSTART;TZID=Europe/Berlin:20260827T090000
DTEND;TZID=Europe/Berlin:20260827T140000
UID:26F42000-20260827T090000@VHSBREMERHAVEN
SUMMARY:Vorankündigung: Englisch für die Reise  für Teilnehmende ohne Vorkenntnisse (Teil 1) Bildungszeit im Land Bremen (26F42000) 
LOCATION:Volkshochschule; 005, Lloydstr. 15, 27568 Bremerhaven
END:VEVENT
BEGIN:VEVENT
DTSTAMP:20260423T185430
DTSTART;TZID=Europe/Berlin:20260828T090000
DTEND;TZID=Europe/Berlin:20260828T140000
UID:26F42000-20260828T090000@VHSBREMERHAVEN
SUMMARY:Vorankündigung: Englisch für die Reise  für Teilnehmende ohne Vorkenntnisse (Teil 1) Bildungszeit im Land Bremen (26F42000) 
LOCATION:Volkshochschule; 005, Lloydstr. 15, 27568 Bremerhaven
END:VEVENT
END:VCALENDAR