BEGIN:VCALENDAR
VERSION:2.0
PRODID:http://www.kufer.de/kuferweb / DE
METHOD:PUBLISH
CALSCALE:GREGORIAN
X-WR-TIMEZONE:Europe/Berlin
BEGIN:VTIMEZONE
TZID:Europe/Berlin
X-LIC-LOCATION:Europe/Berlin
BEGIN:DAYLIGHT
TZOFFSETFROM:+0100
TZOFFSETTO:+0200
TZNAME:CEST
DTSTART;TZID=Europe/Berlin:19700329T020000
RRULE:FREQ=YEARLY;INTERVAL=1;BYDAY=-1SU;BYMONTH=3
END:DAYLIGHT
BEGIN:STANDARD
TZOFFSETFROM:+0200
TZOFFSETTO:+0100
TZNAME:CET
DTSTART;TZID=Europe/Berlin:19701025T030000
RRULE:FREQ=YEARLY;INTERVAL=1;BYDAY=-1SU;BYMONTH=10
END:STANDARD
END:VTIMEZONE
BEGIN:VEVENT
DTSTAMP:20260423T185311
DTSTART;TZID=Europe/Berlin:20260817T090000
DTEND;TZID=Europe/Berlin:20260817T163000
UID:26F44007-20260817T090000@VHSBREMERHAVEN
SUMMARY:Vorankündigung Spanisch A1 kompakt - Teil 3 ab Lektion 9 Bildungszeit im Land Bremen und Bildungsurlaub in Niedersachsen (26F44007) 
LOCATION:Volkshochschule; 223, Lloydstr. 15, 27568 Bremerhaven
END:VEVENT
BEGIN:VEVENT
DTSTAMP:20260423T185311
DTSTART;TZID=Europe/Berlin:20260818T090000
DTEND;TZID=Europe/Berlin:20260818T163000
UID:26F44007-20260818T090000@VHSBREMERHAVEN
SUMMARY:Vorankündigung Spanisch A1 kompakt - Teil 3 ab Lektion 9 Bildungszeit im Land Bremen und Bildungsurlaub in Niedersachsen (26F44007) 
LOCATION:Volkshochschule; 223, Lloydstr. 15, 27568 Bremerhaven
END:VEVENT
BEGIN:VEVENT
DTSTAMP:20260423T185311
DTSTART;TZID=Europe/Berlin:20260819T090000
DTEND;TZID=Europe/Berlin:20260819T163000
UID:26F44007-20260819T090000@VHSBREMERHAVEN
SUMMARY:Vorankündigung Spanisch A1 kompakt - Teil 3 ab Lektion 9 Bildungszeit im Land Bremen und Bildungsurlaub in Niedersachsen (26F44007) 
LOCATION:Volkshochschule; 223, Lloydstr. 15, 27568 Bremerhaven
END:VEVENT
BEGIN:VEVENT
DTSTAMP:20260423T185311
DTSTART;TZID=Europe/Berlin:20260820T090000
DTEND;TZID=Europe/Berlin:20260820T163000
UID:26F44007-20260820T090000@VHSBREMERHAVEN
SUMMARY:Vorankündigung Spanisch A1 kompakt - Teil 3 ab Lektion 9 Bildungszeit im Land Bremen und Bildungsurlaub in Niedersachsen (26F44007) 
LOCATION:Volkshochschule; 223, Lloydstr. 15, 27568 Bremerhaven
END:VEVENT
BEGIN:VEVENT
DTSTAMP:20260423T185311
DTSTART;TZID=Europe/Berlin:20260821T090000
DTEND;TZID=Europe/Berlin:20260821T163000
UID:26F44007-20260821T090000@VHSBREMERHAVEN
SUMMARY:Vorankündigung Spanisch A1 kompakt - Teil 3 ab Lektion 9 Bildungszeit im Land Bremen und Bildungsurlaub in Niedersachsen (26F44007) 
LOCATION:Volkshochschule; 223, Lloydstr. 15, 27568 Bremerhaven
END:VEVENT
END:VCALENDAR